BEGIN:VCALENDAR
VERSION:2.0
CALSCALE:GREGORIAN
PRODID:-//Diputació de Barcelona//DibaCMS//EN
BEGIN:VEVENT
UID:5044
DTSTAMP:20260422T094742
DTSTART:20100615T163000
DTEND:20100615T000000
SUMMARY:Taller d'higiene postural
LOCATION:
METHOD:PUBLISH
X-WR-CALNAME:caldesm@caldesdemontbui.cat
X-WR-TIMEZONE:Europe/Madrid
DESCRIPTION:
URI:https://www.caldesdemontbui.cat/actualitat/agenda/taller-dhigiene-postural.html
CLASS:PUBLIC
END:VEVENT
END:VCALENDAR
