BEGIN:VCALENDAR
VERSION:2.0
CALSCALE:GREGORIAN
PRODID:-//Diputació de Barcelona//DibaCMS//EN
BEGIN:VEVENT
UID:5041
DTSTAMP:20260422T095704
DTSTART:20100613T123000
DTEND:20100613T000000
SUMMARY:Concurs de les Jornades Gastronòmiques de les Cireres: Busquem els millors golafres de cireres!
LOCATION:
METHOD:PUBLISH
X-WR-CALNAME:caldesm@caldesdemontbui.cat
X-WR-TIMEZONE:Europe/Madrid
DESCRIPTION:
URI:https://www.caldesdemontbui.cat/actualitat/agenda/concurs-de-les-jornades-gastronomiques-de-les-cireres-busquem-els-millors-golafres-de-cireres.html
CLASS:PUBLIC
END:VEVENT
END:VCALENDAR
