BEGIN:VCALENDAR
VERSION:2.0
CALSCALE:GREGORIAN
PRODID:-//Diputació de Barcelona//DibaCMS//EN
BEGIN:VEVENT
UID:5037
DTSTAMP:20260422T104811
DTSTART:20100611T203000
DTEND:20100611T000000
SUMMARY:Concert a càrrec dels professors de l'Escola de Música Joan Valls, dedicat a les danses
LOCATION:
METHOD:PUBLISH
X-WR-CALNAME:caldesm@caldesdemontbui.cat
X-WR-TIMEZONE:Europe/Madrid
DESCRIPTION:
URI:https://www.caldesdemontbui.cat/actualitat/agenda/concert-a-carrec-dels-professors-de-lescola-de-msica-joan-valls-dedicat-a-les-danses.html
CLASS:PUBLIC
END:VEVENT
END:VCALENDAR
