BEGIN:VCALENDAR
VERSION:2.0
CALSCALE:GREGORIAN
PRODID:-//Diputació de Barcelona//DibaCMS//EN
BEGIN:VEVENT
UID:5036
DTSTAMP:20260422T071346
DTSTART:20100610T180000
DTEND:20100610T000000
SUMMARY:Sessió adreçada a petits i mitjans empresaris "Un analgèsic per a aquesta crisi: optimitzar la gestió empresarial i reinventar-se i és necessari"
LOCATION:
METHOD:PUBLISH
X-WR-CALNAME:caldesm@caldesdemontbui.cat
X-WR-TIMEZONE:Europe/Madrid
DESCRIPTION:
URI:https://www.caldesdemontbui.cat/actualitat/agenda/sessio-adrecada-a-petits-i-mitjans-empresaris-un-analgesic-per-a-aquesta-crisi-optimitzar-la-gestio-empresarial-i-reinventar-se-i-es-necessari.html
CLASS:PUBLIC
END:VEVENT
END:VCALENDAR
