BEGIN:VCALENDAR
VERSION:2.0
CALSCALE:GREGORIAN
PRODID:-//Diputació de Barcelona//DibaCMS//EN
BEGIN:VEVENT
UID:5034
DTSTAMP:20260422T133053
DTSTART:20100609T160000
DTEND:20100609T000000
SUMMARY:Xerrada "Les herbes remeieres de les àvies"
LOCATION:
METHOD:PUBLISH
X-WR-CALNAME:caldesm@caldesdemontbui.cat
X-WR-TIMEZONE:Europe/Madrid
DESCRIPTION:
URI:https://www.caldesdemontbui.cat/actualitat/agenda/xerrada-les-herbes-remeieres-de-les-avies.html
CLASS:PUBLIC
END:VEVENT
END:VCALENDAR
