BEGIN:VCALENDAR
VERSION:2.0
CALSCALE:GREGORIAN
PRODID:-//Diputació de Barcelona//DibaCMS//EN
BEGIN:VEVENT
UID:5033
DTSTAMP:20260422T065713
DTSTART:20100609T080000
DTEND:20100609T000000
SUMMARY:Caminada a Can Camp
LOCATION:
METHOD:PUBLISH
X-WR-CALNAME:caldesm@caldesdemontbui.cat
X-WR-TIMEZONE:Europe/Madrid
DESCRIPTION:
URI:https://www.caldesdemontbui.cat/actualitat/agenda/caminada-a-can-camp.html
CLASS:PUBLIC
END:VEVENT
END:VCALENDAR
