BEGIN:VCALENDAR
VERSION:2.0
CALSCALE:GREGORIAN
PRODID:-//Diputació de Barcelona//DibaCMS//EN
BEGIN:VEVENT
UID:5030
DTSTAMP:20260422T085934
DTSTART:20100605T220000
DTEND:20100605T000000
SUMMARY:Sopar-Concert de les Jornades Gastronòmiques de les Cieres: Balneari Broquetes
LOCATION:
METHOD:PUBLISH
X-WR-CALNAME:caldesm@caldesdemontbui.cat
X-WR-TIMEZONE:Europe/Madrid
DESCRIPTION:
URI:https://www.caldesdemontbui.cat/actualitat/agenda/sopar-concert-de-les-jornades-gastronomiques-de-les-cieres-balneari-broquetes.html
CLASS:PUBLIC
END:VEVENT
END:VCALENDAR
