BEGIN:VCALENDAR
VERSION:2.0
CALSCALE:GREGORIAN
PRODID:-//Diputació de Barcelona//DibaCMS//EN
BEGIN:VEVENT
UID:5029
DTSTAMP:20260422T035418
DTSTART:20100605T110000
DTEND:20100605T140000
SUMMARY:Portes obertes de l'Escola Municipal de Música Joan Valls
LOCATION:
METHOD:PUBLISH
X-WR-CALNAME:caldesm@caldesdemontbui.cat
X-WR-TIMEZONE:Europe/Madrid
DESCRIPTION:
URI:https://www.caldesdemontbui.cat/actualitat/agenda/portes-obertes-de-lescola-municipal-de-msica-joan-valls.html
CLASS:PUBLIC
END:VEVENT
END:VCALENDAR
