BEGIN:VCALENDAR
VERSION:2.0
CALSCALE:GREGORIAN
PRODID:-//Diputació de Barcelona//DibaCMS//EN
BEGIN:VEVENT
UID:5028
DTSTAMP:20260422T083907
DTSTART:20100605T080000
DTEND:20100605T130000
SUMMARY:Tèsting de biodiversitat
LOCATION:
METHOD:PUBLISH
X-WR-CALNAME:caldesm@caldesdemontbui.cat
X-WR-TIMEZONE:Europe/Madrid
DESCRIPTION:
URI:https://www.caldesdemontbui.cat/actualitat/agenda/testing-de-biodiversitat.html
CLASS:PUBLIC
END:VEVENT
END:VCALENDAR
