BEGIN:VCALENDAR
VERSION:2.0
CALSCALE:GREGORIAN
PRODID:-//Diputació de Barcelona//DibaCMS//EN
BEGIN:VEVENT
UID:5027
DTSTAMP:20260422T035433
DTSTART:20100604T223000
DTEND:20100604T000000
SUMMARY:Sopar-Concert de les Jornades Gastronòmiques de les Cieres: El Bosc Gran
LOCATION:
METHOD:PUBLISH
X-WR-CALNAME:caldesm@caldesdemontbui.cat
X-WR-TIMEZONE:Europe/Madrid
DESCRIPTION:
URI:https://www.caldesdemontbui.cat/actualitat/agenda/sopar-concert-de-les-jornades-gastronomiques-de-les-cieres-el-bosc-gran.html
CLASS:PUBLIC
END:VEVENT
END:VCALENDAR
