BEGIN:VCALENDAR
VERSION:2.0
CALSCALE:GREGORIAN
PRODID:-//Diputació de Barcelona//DibaCMS//EN
BEGIN:VEVENT
UID:5026
DTSTAMP:20260422T035512
DTSTART:20100604T000000
DTEND:20100606T000000
SUMMARY:Torneig Memorial Rosario Sánchez
LOCATION:
METHOD:PUBLISH
X-WR-CALNAME:caldesm@caldesdemontbui.cat
X-WR-TIMEZONE:Europe/Madrid
DESCRIPTION:
URI:https://www.caldesdemontbui.cat/actualitat/agenda/torneig-memorial-rosario-sanchez.html
CLASS:PUBLIC
END:VEVENT
END:VCALENDAR
