BEGIN:VCALENDAR
VERSION:2.0
CALSCALE:GREGORIAN
PRODID:-//Diputació de Barcelona//DibaCMS//EN
BEGIN:VEVENT
UID:5025
DTSTAMP:20260422T035544
DTSTART:20100602T200000
DTEND:20100602T000000
SUMMARY:Audiència Pública sobre el Pla d'acció per l'estalvi energètic
LOCATION:
METHOD:PUBLISH
X-WR-CALNAME:caldesm@caldesdemontbui.cat
X-WR-TIMEZONE:Europe/Madrid
DESCRIPTION:
URI:https://www.caldesdemontbui.cat/actualitat/agenda/audiencia-pblica-sobre-el-pla-daccio-per-lestalvi-energetic.html
CLASS:PUBLIC
END:VEVENT
END:VCALENDAR
