BEGIN:VCALENDAR
VERSION:2.0
CALSCALE:GREGORIAN
PRODID:-//Diputació de Barcelona//DibaCMS//EN
BEGIN:VEVENT
UID:5024
DTSTAMP:20260422T034329
DTSTART:20100602T074000
DTEND:20100602T000000
SUMMARY:Sortida a la Font d'en Bou
LOCATION:
METHOD:PUBLISH
X-WR-CALNAME:caldesm@caldesdemontbui.cat
X-WR-TIMEZONE:Europe/Madrid
DESCRIPTION:
URI:https://www.caldesdemontbui.cat/actualitat/agenda/sortida-a-la-font-den-bou.html
CLASS:PUBLIC
END:VEVENT
END:VCALENDAR
