BEGIN:VCALENDAR
VERSION:2.0
CALSCALE:GREGORIAN
PRODID:-//Diputació de Barcelona//DibaCMS//EN
BEGIN:VEVENT
UID:5022
DTSTAMP:20260422T060901
DTSTART:20100530T000000
DTEND:20100530T000000
SUMMARY:19a etapa del Camí de Ronda entre Sant Climent de Llobregat i Garraf
LOCATION:
METHOD:PUBLISH
X-WR-CALNAME:caldesm@caldesdemontbui.cat
X-WR-TIMEZONE:Europe/Madrid
DESCRIPTION:
URI:https://www.caldesdemontbui.cat/actualitat/agenda/19a-etapa-del-cami-de-ronda-entre-sant-climent-de-llobregat-i-garraf.html
CLASS:PUBLIC
END:VEVENT
END:VCALENDAR
