BEGIN:VCALENDAR
VERSION:2.0
CALSCALE:GREGORIAN
PRODID:-//Diputació de Barcelona//DibaCMS//EN
BEGIN:VEVENT
UID:5021
DTSTAMP:20260422T060830
DTSTART:20100529T100000
DTEND:20100529T133000
SUMMARY:Cloenda del Pla Català de l'Esport a l'Escola i dels cursos d'Educació Viària
LOCATION:
METHOD:PUBLISH
X-WR-CALNAME:caldesm@caldesdemontbui.cat
X-WR-TIMEZONE:Europe/Madrid
DESCRIPTION:
URI:https://www.caldesdemontbui.cat/actualitat/agenda/cloenda-del-pla-catala-de-lesport-a-lescola-i-dels-cursos-deducacio-viaria.html
CLASS:PUBLIC
END:VEVENT
END:VCALENDAR
