BEGIN:VCALENDAR
VERSION:2.0
CALSCALE:GREGORIAN
PRODID:-//Diputació de Barcelona//DibaCMS//EN
BEGIN:VEVENT
UID:5020
DTSTAMP:20260422T041102
DTSTART:20100529T000000
DTEND:20100529T000000
SUMMARY:Itinerari literari: Salvador Espriu
LOCATION:
METHOD:PUBLISH
X-WR-CALNAME:caldesm@caldesdemontbui.cat
X-WR-TIMEZONE:Europe/Madrid
DESCRIPTION:
URI:https://www.caldesdemontbui.cat/actualitat/agenda/itinerari-literari-salvador-espriu.html
CLASS:PUBLIC
END:VEVENT
END:VCALENDAR
