BEGIN:VCALENDAR
VERSION:2.0
CALSCALE:GREGORIAN
PRODID:-//Diputació de Barcelona//DibaCMS//EN
BEGIN:VEVENT
UID:5019
DTSTAMP:20260422T023627
DTSTART:20100528T223000
DTEND:20100528T000000
SUMMARY:Sopar-Concert de les Jornades Gastronòmiques de les Cieres: Termes Victoria
LOCATION:
METHOD:PUBLISH
X-WR-CALNAME:caldesm@caldesdemontbui.cat
X-WR-TIMEZONE:Europe/Madrid
DESCRIPTION:
URI:https://www.caldesdemontbui.cat/actualitat/agenda/sopar-concert-de-les-jornades-gastronomiques-de-les-cieres-termes-victoria.html
CLASS:PUBLIC
END:VEVENT
END:VCALENDAR
