BEGIN:VCALENDAR
VERSION:2.0
CALSCALE:GREGORIAN
PRODID:-//Diputació de Barcelona//DibaCMS//EN
BEGIN:VEVENT
UID:5016
DTSTAMP:20260422T035256
DTSTART:20100528T193000
DTEND:20100528T000000
SUMMARY:Restaurant poètic
LOCATION:
METHOD:PUBLISH
X-WR-CALNAME:caldesm@caldesdemontbui.cat
X-WR-TIMEZONE:Europe/Madrid
DESCRIPTION:
URI:https://www.caldesdemontbui.cat/actualitat/agenda/restaurant-poetic.html
CLASS:PUBLIC
END:VEVENT
END:VCALENDAR
