BEGIN:VCALENDAR
VERSION:2.0
CALSCALE:GREGORIAN
PRODID:-//Diputació de Barcelona//DibaCMS//EN
BEGIN:VEVENT
UID:5014
DTSTAMP:20260422T061419
DTSTART:20100526T160000
DTEND:20100526T000000
SUMMARY:Taller: "Com afecten els nostres pensaments i emocions al nostre cos i entorn" 
LOCATION:
METHOD:PUBLISH
X-WR-CALNAME:caldesm@caldesdemontbui.cat
X-WR-TIMEZONE:Europe/Madrid
DESCRIPTION:
URI:https://www.caldesdemontbui.cat/actualitat/agenda/taller-com-afecten-els-nostres-pensaments-i-emocions-al-nostre-cos-i-entorn-.html
CLASS:PUBLIC
END:VEVENT
END:VCALENDAR
