BEGIN:VCALENDAR
VERSION:2.0
CALSCALE:GREGORIAN
PRODID:-//Diputació de Barcelona//DibaCMS//EN
BEGIN:VEVENT
UID:5012
DTSTAMP:20260422T040856
DTSTART:20100522T090000
DTEND:20100522T000000
SUMMARY:Sortida a l'Escala per conèixer l'Alberg i els entorns
LOCATION:
METHOD:PUBLISH
X-WR-CALNAME:caldesm@caldesdemontbui.cat
X-WR-TIMEZONE:Europe/Madrid
DESCRIPTION:
URI:https://www.caldesdemontbui.cat/actualitat/agenda/sortida-a-lescala-per-coneixer-lalberg-i-els-entorns.html
CLASS:PUBLIC
END:VEVENT
END:VCALENDAR
