BEGIN:VCALENDAR
VERSION:2.0
CALSCALE:GREGORIAN
PRODID:-//Diputació de Barcelona//DibaCMS//EN
BEGIN:VEVENT
UID:5010
DTSTAMP:20260422T054430
DTSTART:20100519T160000
DTEND:20100519T000000
SUMMARY:Xerrada: Les troballes històriques de Caldes
LOCATION:
METHOD:PUBLISH
X-WR-CALNAME:caldesm@caldesdemontbui.cat
X-WR-TIMEZONE:Europe/Madrid
DESCRIPTION:
URI:https://www.caldesdemontbui.cat/actualitat/agenda/xerrada-les-troballes-historiques-de-caldes.html
CLASS:PUBLIC
END:VEVENT
END:VCALENDAR
