BEGIN:VCALENDAR
VERSION:2.0
CALSCALE:GREGORIAN
PRODID:-//Diputació de Barcelona//DibaCMS//EN
BEGIN:VEVENT
UID:5006
DTSTAMP:20260422T163851
DTSTART:20100516T000000
DTEND:20100516T000000
SUMMARY:Sortida de tot el dia a la Serra de Prades
LOCATION:
METHOD:PUBLISH
X-WR-CALNAME:caldesm@caldesdemontbui.cat
X-WR-TIMEZONE:Europe/Madrid
DESCRIPTION:
URI:https://www.caldesdemontbui.cat/actualitat/agenda/sortida-de-tot-el-dia-a-la-serra-de-prades.html
CLASS:PUBLIC
END:VEVENT
END:VCALENDAR
