BEGIN:VCALENDAR
VERSION:2.0
CALSCALE:GREGORIAN
PRODID:-//Diputació de Barcelona//DibaCMS//EN
BEGIN:VEVENT
UID:5004
DTSTAMP:20260422T071422
DTSTART:20100514T180000
DTEND:20100514T000000
SUMMARY:Xerrada sobre els projectes i situació al Parc Nacional del Jaú, estat de l'Amazones, Brasil
LOCATION:
METHOD:PUBLISH
X-WR-CALNAME:caldesm@caldesdemontbui.cat
X-WR-TIMEZONE:Europe/Madrid
DESCRIPTION:
URI:https://www.caldesdemontbui.cat/actualitat/agenda/xerrada-sobre-els-projectes-i-situacio-al-parc-nacional-del-ja-estat-de-lamazones-brasil.html
CLASS:PUBLIC
END:VEVENT
END:VCALENDAR
