BEGIN:VCALENDAR
VERSION:2.0
CALSCALE:GREGORIAN
PRODID:-//Diputació de Barcelona//DibaCMS//EN
BEGIN:VEVENT
UID:5003
DTSTAMP:20260422T075747
DTSTART:20100514T180000
DTEND:20100514T000000
SUMMARY:Espectacle infantil "El tresor amagat"
LOCATION:
METHOD:PUBLISH
X-WR-CALNAME:caldesm@caldesdemontbui.cat
X-WR-TIMEZONE:Europe/Madrid
DESCRIPTION:
URI:https://www.caldesdemontbui.cat/actualitat/agenda/espectacle-infantil-el-tresor-amagat.html
CLASS:PUBLIC
END:VEVENT
END:VCALENDAR
