BEGIN:VCALENDAR
VERSION:2.0
CALSCALE:GREGORIAN
PRODID:-//Diputació de Barcelona//DibaCMS//EN
BEGIN:VEVENT
UID:5001
DTSTAMP:20260422T075304
DTSTART:20100512T160000
DTEND:20100512T000000
SUMMARY:Xerrada: La Torre Marimon, abans i ara
LOCATION:
METHOD:PUBLISH
X-WR-CALNAME:caldesm@caldesdemontbui.cat
X-WR-TIMEZONE:Europe/Madrid
DESCRIPTION:
URI:https://www.caldesdemontbui.cat/actualitat/agenda/xerrada-la-torre-marimon-abans-i-ara.html
CLASS:PUBLIC
END:VEVENT
END:VCALENDAR
