BEGIN:VCALENDAR
VERSION:2.0
CALSCALE:GREGORIAN
PRODID:-//Diputació de Barcelona//DibaCMS//EN
BEGIN:VEVENT
UID:4998
DTSTAMP:20260422T022837
DTSTART:20100507T193000
DTEND:20100507T000000
SUMMARY:Conferència amb motiu del Dia d'Europa: "Quin futur espera a la Unió Europea amb el Tractat de Lisboa?"
LOCATION:
METHOD:PUBLISH
X-WR-CALNAME:caldesm@caldesdemontbui.cat
X-WR-TIMEZONE:Europe/Madrid
DESCRIPTION:
URI:https://www.caldesdemontbui.cat/actualitat/agenda/conferencia-amb-motiu-del-dia-deuropa-quin-futur-espera-a-la-unio-europea-amb-el-tractat-de-lisboa.html
CLASS:PUBLIC
END:VEVENT
END:VCALENDAR
