BEGIN:VCALENDAR
VERSION:2.0
CALSCALE:GREGORIAN
PRODID:-//Diputació de Barcelona//DibaCMS//EN
BEGIN:VEVENT
UID:4997
DTSTAMP:20260422T035329
DTSTART:20100505T080000
DTEND:20100505T000000
SUMMARY:Sortida: esmorzar a Can Duran i visita al Museu "Racó de l'Avi"
LOCATION:
METHOD:PUBLISH
X-WR-CALNAME:caldesm@caldesdemontbui.cat
X-WR-TIMEZONE:Europe/Madrid
DESCRIPTION:
URI:https://www.caldesdemontbui.cat/actualitat/agenda/sortida-esmorzar-a-can-duran-i-visita-al-museu-raco-de-lavi.html
CLASS:PUBLIC
END:VEVENT
END:VCALENDAR
