BEGIN:VCALENDAR
VERSION:2.0
CALSCALE:GREGORIAN
PRODID:-//Diputació de Barcelona//DibaCMS//EN
BEGIN:VEVENT
UID:4995
DTSTAMP:20260422T080425
DTSTART:20100504T000000
DTEND:20100515T000000
SUMMARY:Ampliació de l'exposició "Òscar Samsó: paraula i imatge"
LOCATION:
METHOD:PUBLISH
X-WR-CALNAME:caldesm@caldesdemontbui.cat
X-WR-TIMEZONE:Europe/Madrid
DESCRIPTION:
URI:https://www.caldesdemontbui.cat/actualitat/agenda/ampliacio-de-lexposicio-oscar-samso-paraula-i-imatge.html
CLASS:PUBLIC
END:VEVENT
END:VCALENDAR
