BEGIN:VCALENDAR
VERSION:2.0
CALSCALE:GREGORIAN
PRODID:-//Diputació de Barcelona//DibaCMS//EN
BEGIN:VEVENT
UID:4993
DTSTAMP:20260422T023739
DTSTART:20100430T193000
DTEND:20100430T000000
SUMMARY:Presentació del llibre 'Sant Sebastià de Montmajor. Fets, anècdotes i llegendes'
LOCATION:
METHOD:PUBLISH
X-WR-CALNAME:caldesm@caldesdemontbui.cat
X-WR-TIMEZONE:Europe/Madrid
DESCRIPTION:
URI:https://www.caldesdemontbui.cat/actualitat/agenda/presentacio-del-llibre-sant-sebastia-de-montmajor-fets-anecdotes-i-llegendes.html
CLASS:PUBLIC
END:VEVENT
END:VCALENDAR
