BEGIN:VCALENDAR
VERSION:2.0
CALSCALE:GREGORIAN
PRODID:-//Diputació de Barcelona//DibaCMS//EN
BEGIN:VEVENT
UID:4991
DTSTAMP:20260422T042106
DTSTART:20100429T100000
DTEND:20100429T120000
SUMMARY:IX Jornada de la Il·lustració de l'Escola El Farell 
LOCATION:
METHOD:PUBLISH
X-WR-CALNAME:caldesm@caldesdemontbui.cat
X-WR-TIMEZONE:Europe/Madrid
DESCRIPTION:
URI:https://www.caldesdemontbui.cat/actualitat/agenda/ix-jornada-de-la-illustracio-de-lescola-el-farell-.html
CLASS:PUBLIC
END:VEVENT
END:VCALENDAR
