BEGIN:VCALENDAR
VERSION:2.0
CALSCALE:GREGORIAN
PRODID:-//Diputació de Barcelona//DibaCMS//EN
BEGIN:VEVENT
UID:4990
DTSTAMP:20260422T005015
DTSTART:20100428T080000
DTEND:20100428T000000
SUMMARY:Sortida al Prat del Llobregat
LOCATION:
METHOD:PUBLISH
X-WR-CALNAME:caldesm@caldesdemontbui.cat
X-WR-TIMEZONE:Europe/Madrid
DESCRIPTION:
URI:https://www.caldesdemontbui.cat/actualitat/agenda/sortida-al-prat-del-llobregat.html
CLASS:PUBLIC
END:VEVENT
END:VCALENDAR
