BEGIN:VCALENDAR
VERSION:2.0
CALSCALE:GREGORIAN
PRODID:-//Diputació de Barcelona//DibaCMS//EN
BEGIN:VEVENT
UID:4989
DTSTAMP:20260422T035218
DTSTART:20100427T110000
DTEND:20100427T000000
SUMMARY:Ofrena de romaní a la Moreneta
LOCATION:
METHOD:PUBLISH
X-WR-CALNAME:caldesm@caldesdemontbui.cat
X-WR-TIMEZONE:Europe/Madrid
DESCRIPTION:
URI:https://www.caldesdemontbui.cat/actualitat/agenda/ofrena-de-romani-a-la-moreneta.html
CLASS:PUBLIC
END:VEVENT
END:VCALENDAR
