BEGIN:VCALENDAR
VERSION:2.0
CALSCALE:GREGORIAN
PRODID:-//Diputació de Barcelona//DibaCMS//EN
BEGIN:VEVENT
UID:4988
DTSTAMP:20260422T055603
DTSTART:20100426T190000
DTEND:20100426T000000
SUMMARY:Club de lectura: Xerrada sobre l'obra Paul Auster
LOCATION:
METHOD:PUBLISH
X-WR-CALNAME:caldesm@caldesdemontbui.cat
X-WR-TIMEZONE:Europe/Madrid
DESCRIPTION:
URI:https://www.caldesdemontbui.cat/actualitat/agenda/club-de-lectura-xerrada-sobre-lobra-paul-auster.html
CLASS:PUBLIC
END:VEVENT
END:VCALENDAR
