BEGIN:VCALENDAR
VERSION:2.0
CALSCALE:GREGORIAN
PRODID:-//Diputació de Barcelona//DibaCMS//EN
BEGIN:VEVENT
UID:4987
DTSTAMP:20260422T022608
DTSTART:20100425T000000
DTEND:20100425T000000
SUMMARY:18a Etapa del Camí de Ronda entre el Baixador de Vallvidriera i Sant Ciment de Llobregat
LOCATION:
METHOD:PUBLISH
X-WR-CALNAME:caldesm@caldesdemontbui.cat
X-WR-TIMEZONE:Europe/Madrid
DESCRIPTION:
URI:https://www.caldesdemontbui.cat/actualitat/agenda/18a-etapa-del-cami-de-ronda-entre-el-baixador-de-vallvidriera-i-sant-ciment-de-llobregat.html
CLASS:PUBLIC
END:VEVENT
END:VCALENDAR
