BEGIN:VCALENDAR
VERSION:2.0
CALSCALE:GREGORIAN
PRODID:-//Diputació de Barcelona//DibaCMS//EN
BEGIN:VEVENT
UID:4986
DTSTAMP:20260422T045127
DTSTART:20100424T213000
DTEND:20100424T000000
SUMMARY:Mama mia! Una filla per a tres pares
LOCATION:
METHOD:PUBLISH
X-WR-CALNAME:caldesm@caldesdemontbui.cat
X-WR-TIMEZONE:Europe/Madrid
DESCRIPTION:
URI:https://www.caldesdemontbui.cat/actualitat/agenda/mama-mia-una-filla-per-a-tres-pares.html
CLASS:PUBLIC
END:VEVENT
END:VCALENDAR
