BEGIN:VCALENDAR
VERSION:2.0
CALSCALE:GREGORIAN
PRODID:-//Diputació de Barcelona//DibaCMS//EN
BEGIN:VEVENT
UID:4984
DTSTAMP:20260422T042252
DTSTART:20100424T183000
DTEND:20100424T000000
SUMMARY:Concert de Sant Jordi de l'Escola de Música Joan Valls
LOCATION:
METHOD:PUBLISH
X-WR-CALNAME:caldesm@caldesdemontbui.cat
X-WR-TIMEZONE:Europe/Madrid
DESCRIPTION:
URI:https://www.caldesdemontbui.cat/actualitat/agenda/concert-de-sant-jordi-de-lescola-de-msica-joan-valls.html
CLASS:PUBLIC
END:VEVENT
END:VCALENDAR
