BEGIN:VCALENDAR
VERSION:2.0
CALSCALE:GREGORIAN
PRODID:-//Diputació de Barcelona//DibaCMS//EN
BEGIN:VEVENT
UID:4983
DTSTAMP:20260422T004812
DTSTART:20100424T110000
DTEND:20100424T000000
SUMMARY:Taula Rodona "Rethinking Public Space"
LOCATION:
METHOD:PUBLISH
X-WR-CALNAME:caldesm@caldesdemontbui.cat
X-WR-TIMEZONE:Europe/Madrid
DESCRIPTION:
URI:https://www.caldesdemontbui.cat/actualitat/agenda/taula-rodona-rethinking-public-space.html
CLASS:PUBLIC
END:VEVENT
END:VCALENDAR
