BEGIN:VCALENDAR
VERSION:2.0
CALSCALE:GREGORIAN
PRODID:-//Diputació de Barcelona//DibaCMS//EN
BEGIN:VEVENT
UID:4982
DTSTAMP:20260422T040255
DTSTART:20100423T220000
DTEND:20100423T000000
SUMMARY:Concert de Sant Jordi a càrrec d'AD LIBITUM
LOCATION:
METHOD:PUBLISH
X-WR-CALNAME:caldesm@caldesdemontbui.cat
X-WR-TIMEZONE:Europe/Madrid
DESCRIPTION:
URI:https://www.caldesdemontbui.cat/actualitat/agenda/concert-de-sant-jordi-a-carrec-dad-libitum.html
CLASS:PUBLIC
END:VEVENT
END:VCALENDAR
