BEGIN:VCALENDAR
VERSION:2.0
CALSCALE:GREGORIAN
PRODID:-//Diputació de Barcelona//DibaCMS//EN
BEGIN:VEVENT
UID:4981
DTSTAMP:20260422T055305
DTSTART:20100423T200000
DTEND:20100423T000000
SUMMARY:Recital de poesia "Òscar Samsó: Paraula i Imatge"
LOCATION:
METHOD:PUBLISH
X-WR-CALNAME:caldesm@caldesdemontbui.cat
X-WR-TIMEZONE:Europe/Madrid
DESCRIPTION:
URI:https://www.caldesdemontbui.cat/actualitat/agenda/recital-de-poesia-oscar-samso-paraula-i-imatge.html
CLASS:PUBLIC
END:VEVENT
END:VCALENDAR
