BEGIN:VCALENDAR
VERSION:2.0
CALSCALE:GREGORIAN
PRODID:-//Diputació de Barcelona//DibaCMS//EN
BEGIN:VEVENT
UID:4980
DTSTAMP:20260422T045851
DTSTART:20100423T190000
DTEND:20100423T000000
SUMMARY:Celebració de la Festa de Sant Jordi d'Acció Cívica Calderina
LOCATION:
METHOD:PUBLISH
X-WR-CALNAME:caldesm@caldesdemontbui.cat
X-WR-TIMEZONE:Europe/Madrid
DESCRIPTION:
URI:https://www.caldesdemontbui.cat/actualitat/agenda/celebracio-de-la-festa-de-sant-jordi-daccio-civica-calderina.html
CLASS:PUBLIC
END:VEVENT
END:VCALENDAR
