BEGIN:VCALENDAR
VERSION:2.0
CALSCALE:GREGORIAN
PRODID:-//Diputació de Barcelona//DibaCMS//EN
BEGIN:VEVENT
UID:4979
DTSTAMP:20260422T022312
DTSTART:20100423T190000
DTEND:20100423T000000
SUMMARY:Ball de Sardanes de Sant Jordi, amb la Cobla Thermalenca
LOCATION:
METHOD:PUBLISH
X-WR-CALNAME:caldesm@caldesdemontbui.cat
X-WR-TIMEZONE:Europe/Madrid
DESCRIPTION:
URI:https://www.caldesdemontbui.cat/actualitat/agenda/ball-de-sardanes-de-sant-jordi-amb-la-cobla-thermalenca.html
CLASS:PUBLIC
END:VEVENT
END:VCALENDAR
