BEGIN:VCALENDAR
VERSION:2.0
CALSCALE:GREGORIAN
PRODID:-//Diputació de Barcelona//DibaCMS//EN
BEGIN:VEVENT
UID:4978
DTSTAMP:20260422T045046
DTSTART:20100423T184000
DTEND:20100423T000000
SUMMARY:Sorteig d'articles de les botigues de Caldes Centre Comercial
LOCATION:
METHOD:PUBLISH
X-WR-CALNAME:caldesm@caldesdemontbui.cat
X-WR-TIMEZONE:Europe/Madrid
DESCRIPTION:
URI:https://www.caldesdemontbui.cat/actualitat/agenda/sorteig-darticles-de-les-botigues-de-caldes-centre-comercial.html
CLASS:PUBLIC
END:VEVENT
END:VCALENDAR
