BEGIN:VCALENDAR
VERSION:2.0
CALSCALE:GREGORIAN
PRODID:-//Diputació de Barcelona//DibaCMS//EN
BEGIN:VEVENT
UID:4977
DTSTAMP:20260422T055027
DTSTART:20100423T180000
DTEND:20100423T000000
SUMMARY:Ball de Sant Jordi 
LOCATION:
METHOD:PUBLISH
X-WR-CALNAME:caldesm@caldesdemontbui.cat
X-WR-TIMEZONE:Europe/Madrid
DESCRIPTION:
URI:https://www.caldesdemontbui.cat/actualitat/agenda/ball-de-sant-jordi-.html
CLASS:PUBLIC
END:VEVENT
END:VCALENDAR
