BEGIN:VCALENDAR
VERSION:2.0
CALSCALE:GREGORIAN
PRODID:-//Diputació de Barcelona//DibaCMS//EN
BEGIN:VEVENT
UID:4976
DTSTAMP:20260422T004034
DTSTART:20100423T173000
DTEND:20100423T000000
SUMMARY:Animació infantil: El petit tramvia
LOCATION:
METHOD:PUBLISH
X-WR-CALNAME:caldesm@caldesdemontbui.cat
X-WR-TIMEZONE:Europe/Madrid
DESCRIPTION:
URI:https://www.caldesdemontbui.cat/actualitat/agenda/animacio-infantil-el-petit-tramvia.html
CLASS:PUBLIC
END:VEVENT
END:VCALENDAR
