BEGIN:VCALENDAR
VERSION:2.0
CALSCALE:GREGORIAN
PRODID:-//Diputació de Barcelona//DibaCMS//EN
BEGIN:VEVENT
UID:4975
DTSTAMP:20260422T035317
DTSTART:20100423T173000
DTEND:20100423T200000
SUMMARY:II Trobada amb els nostres escriptors
LOCATION:
METHOD:PUBLISH
X-WR-CALNAME:caldesm@caldesdemontbui.cat
X-WR-TIMEZONE:Europe/Madrid
DESCRIPTION:
URI:https://www.caldesdemontbui.cat/actualitat/agenda/ii-trobada-amb-els-nostres-escriptors.html
CLASS:PUBLIC
END:VEVENT
END:VCALENDAR
