BEGIN:VCALENDAR
VERSION:2.0
CALSCALE:GREGORIAN
PRODID:-//Diputació de Barcelona//DibaCMS//EN
BEGIN:VEVENT
UID:4973
DTSTAMP:20260422T004155
DTSTART:20100423T160000
DTEND:20100423T000000
SUMMARY:Teatre: Versió moderna de la Llegenda de Sant Jordi
LOCATION:
METHOD:PUBLISH
X-WR-CALNAME:caldesm@caldesdemontbui.cat
X-WR-TIMEZONE:Europe/Madrid
DESCRIPTION:
URI:https://www.caldesdemontbui.cat/actualitat/agenda/teatre-versio-moderna-de-la-llegenda-de-sant-jordi.html
CLASS:PUBLIC
END:VEVENT
END:VCALENDAR
