BEGIN:VCALENDAR
VERSION:2.0
CALSCALE:GREGORIAN
PRODID:-//Diputació de Barcelona//DibaCMS//EN
BEGIN:VEVENT
UID:4972
DTSTAMP:20260422T103631
DTSTART:20100423T100000
DTEND:20100423T140000
SUMMARY:Els Tallers de la Biblioteca
LOCATION:
METHOD:PUBLISH
X-WR-CALNAME:caldesm@caldesdemontbui.cat
X-WR-TIMEZONE:Europe/Madrid
DESCRIPTION:
URI:https://www.caldesdemontbui.cat/actualitat/agenda/els-tallers-de-la-biblioteca.html
CLASS:PUBLIC
END:VEVENT
END:VCALENDAR
