BEGIN:VCALENDAR
VERSION:2.0
CALSCALE:GREGORIAN
PRODID:-//Diputació de Barcelona//DibaCMS//EN
BEGIN:VEVENT
UID:4971
DTSTAMP:20260422T053026
DTSTART:20100423T100000
DTEND:20100423T200000
SUMMARY:Pa de Sant Jordi
LOCATION:
METHOD:PUBLISH
X-WR-CALNAME:caldesm@caldesdemontbui.cat
X-WR-TIMEZONE:Europe/Madrid
DESCRIPTION:
URI:https://www.caldesdemontbui.cat/actualitat/agenda/pa-de-sant-jordi.html
CLASS:PUBLIC
END:VEVENT
END:VCALENDAR
