BEGIN:VCALENDAR
VERSION:2.0
CALSCALE:GREGORIAN
PRODID:-//Diputació de Barcelona//DibaCMS//EN
BEGIN:VEVENT
UID:4968
DTSTAMP:20260422T022019
DTSTART:20100422T090000
DTEND:20100422T210000
SUMMARY:Parada de llibres de segona mà
LOCATION:
METHOD:PUBLISH
X-WR-CALNAME:caldesm@caldesdemontbui.cat
X-WR-TIMEZONE:Europe/Madrid
DESCRIPTION:
URI:https://www.caldesdemontbui.cat/actualitat/agenda/parada-de-llibres-de-segona-ma.html
CLASS:PUBLIC
END:VEVENT
END:VCALENDAR
