BEGIN:VCALENDAR
VERSION:2.0
CALSCALE:GREGORIAN
PRODID:-//Diputació de Barcelona//DibaCMS//EN
BEGIN:VEVENT
UID:4967
DTSTAMP:20260422T072804
DTSTART:20100421T160000
DTEND:20100421T000000
SUMMARY:Conferència: Apropem-nos a la llengua II. Fruïm de la lectura!
LOCATION:
METHOD:PUBLISH
X-WR-CALNAME:caldesm@caldesdemontbui.cat
X-WR-TIMEZONE:Europe/Madrid
DESCRIPTION:
URI:https://www.caldesdemontbui.cat/actualitat/agenda/conferencia-apropem-nos-a-la-llengua-ii-fruim-de-la-lectura.html
CLASS:PUBLIC
END:VEVENT
END:VCALENDAR
